BEGIN:VCALENDAR
VERSION:2.0
PRODID:-//Develhoek - ECPv6.15.20//NONSGML v1.0//EN
CALSCALE:GREGORIAN
METHOD:PUBLISH
X-WR-CALNAME:Develhoek
X-ORIGINAL-URL:https://develhoek.nl
X-WR-CALDESC:Evenementen voor Develhoek
REFRESH-INTERVAL;VALUE=DURATION:PT1H
X-Robots-Tag:noindex
X-PUBLISHED-TTL:PT1H
BEGIN:VTIMEZONE
TZID:Europe/Amsterdam
BEGIN:DAYLIGHT
TZOFFSETFROM:+0100
TZOFFSETTO:+0200
TZNAME:CEST
DTSTART:20250330T010000
END:DAYLIGHT
BEGIN:STANDARD
TZOFFSETFROM:+0200
TZOFFSETTO:+0100
TZNAME:CET
DTSTART:20251026T010000
END:STANDARD
BEGIN:DAYLIGHT
TZOFFSETFROM:+0100
TZOFFSETTO:+0200
TZNAME:CEST
DTSTART:20260329T010000
END:DAYLIGHT
BEGIN:STANDARD
TZOFFSETFROM:+0200
TZOFFSETTO:+0100
TZNAME:CET
DTSTART:20261025T010000
END:STANDARD
BEGIN:DAYLIGHT
TZOFFSETFROM:+0100
TZOFFSETTO:+0200
TZNAME:CEST
DTSTART:20270328T010000
END:DAYLIGHT
BEGIN:STANDARD
TZOFFSETFROM:+0200
TZOFFSETTO:+0100
TZNAME:CET
DTSTART:20271031T010000
END:STANDARD
END:VTIMEZONE
BEGIN:VEVENT
DTSTART;TZID=Europe/Amsterdam:20260714T190000
DTEND;TZID=Europe/Amsterdam:20260714T210000
DTSTAMP:20260419T201535
CREATED:20251211T120024Z
LAST-MODIFIED:20251211T120024Z
UID:1350-1784055600-1784062800@develhoek.nl
SUMMARY:Musical groep 8b
DESCRIPTION:Beide groepen 8 zijn om 12:00 uur uit.
URL:https://develhoek.nl/evenement/musical-groep-8b/
END:VEVENT
BEGIN:VEVENT
DTSTART;VALUE=DATE:20260715
DTEND;VALUE=DATE:20260716
DTSTAMP:20260419T201535
CREATED:20251211T120125Z
LAST-MODIFIED:20251211T120125Z
UID:1354-1784073600-1784159999@develhoek.nl
SUMMARY:Verjaardagendag
DESCRIPTION:
URL:https://develhoek.nl/evenement/verjaardagendag/
END:VEVENT
BEGIN:VEVENT
DTSTART;TZID=Europe/Amsterdam:20260715T200000
DTEND;TZID=Europe/Amsterdam:20260715T230000
DTSTAMP:20260419T201535
CREATED:20251211T120157Z
LAST-MODIFIED:20251211T120157Z
UID:1356-1784145600-1784156400@develhoek.nl
SUMMARY:Afscheidsavond groepen 8
DESCRIPTION:
URL:https://develhoek.nl/evenement/afscheidsavond-groepen-8/
END:VEVENT
BEGIN:VEVENT
DTSTART;VALUE=DATE:20260717
DTEND;VALUE=DATE:20260718
DTSTAMP:20260419T201535
CREATED:20251211T120230Z
LAST-MODIFIED:20251211T120230Z
UID:1358-1784246400-1784332799@develhoek.nl
SUMMARY:Laatste schooldag tot 12:00 uur
DESCRIPTION:Alle leerlingen zijn om 12:00 uur vrij.
URL:https://develhoek.nl/evenement/laatste-schooldag-tot-1200-uur/
END:VEVENT
BEGIN:VEVENT
DTSTART;VALUE=DATE:20260718
DTEND;VALUE=DATE:20260901
DTSTAMP:20260419T201535
CREATED:20251211T120418Z
LAST-MODIFIED:20251211T120418Z
UID:1360-1784332800-1788220799@develhoek.nl
SUMMARY:Zomervakantie
DESCRIPTION:
URL:https://develhoek.nl/evenement/zomervakantie/
END:VEVENT
END:VCALENDAR