BEGIN:VCALENDAR
VERSION:2.0
PRODID:-//Develhoek - ECPv6.15.20//NONSGML v1.0//EN
CALSCALE:GREGORIAN
METHOD:PUBLISH
X-WR-CALNAME:Develhoek
X-ORIGINAL-URL:https://develhoek.nl
X-WR-CALDESC:Evenementen voor Develhoek
REFRESH-INTERVAL;VALUE=DURATION:PT1H
X-Robots-Tag:noindex
X-PUBLISHED-TTL:PT1H
BEGIN:VTIMEZONE
TZID:Europe/Amsterdam
BEGIN:DAYLIGHT
TZOFFSETFROM:+0100
TZOFFSETTO:+0200
TZNAME:CEST
DTSTART:20250330T010000
END:DAYLIGHT
BEGIN:STANDARD
TZOFFSETFROM:+0200
TZOFFSETTO:+0100
TZNAME:CET
DTSTART:20251026T010000
END:STANDARD
BEGIN:DAYLIGHT
TZOFFSETFROM:+0100
TZOFFSETTO:+0200
TZNAME:CEST
DTSTART:20260329T010000
END:DAYLIGHT
BEGIN:STANDARD
TZOFFSETFROM:+0200
TZOFFSETTO:+0100
TZNAME:CET
DTSTART:20261025T010000
END:STANDARD
BEGIN:DAYLIGHT
TZOFFSETFROM:+0100
TZOFFSETTO:+0200
TZNAME:CEST
DTSTART:20270328T010000
END:DAYLIGHT
BEGIN:STANDARD
TZOFFSETFROM:+0200
TZOFFSETTO:+0100
TZNAME:CET
DTSTART:20271031T010000
END:STANDARD
END:VTIMEZONE
BEGIN:VEVENT
DTSTART;VALUE=DATE:20260203
DTEND;VALUE=DATE:20260205
DTSTAMP:20260419T162051
CREATED:20251211T113153Z
LAST-MODIFIED:20251211T113153Z
UID:1268-1770076800-1770249599@develhoek.nl
SUMMARY:Doorstroomtoets groep 8
DESCRIPTION:
URL:https://develhoek.nl/evenement/doorstroomtoets-groep-8/
END:VEVENT
BEGIN:VEVENT
DTSTART;VALUE=DATE:20260210
DTEND;VALUE=DATE:20260211
DTSTAMP:20260419T162051
CREATED:20251211T113226Z
LAST-MODIFIED:20251211T113226Z
UID:1270-1770681600-1770767999@develhoek.nl
SUMMARY:Student Voice
DESCRIPTION:
URL:https://develhoek.nl/evenement/student-voice-2/
END:VEVENT
BEGIN:VEVENT
DTSTART;VALUE=DATE:20260213
DTEND;VALUE=DATE:20260214
DTSTAMP:20260419T162051
CREATED:20251211T113249Z
LAST-MODIFIED:20251211T113249Z
UID:1272-1770940800-1771027199@develhoek.nl
SUMMARY:Rapport 1 mee
DESCRIPTION:
URL:https://develhoek.nl/evenement/rapport-1-mee/
END:VEVENT
BEGIN:VEVENT
DTSTART;VALUE=DATE:20260214
DTEND;VALUE=DATE:20260223
DTSTAMP:20260419T162051
CREATED:20251211T113428Z
LAST-MODIFIED:20251211T113428Z
UID:1274-1771027200-1771804799@develhoek.nl
SUMMARY:Voorjaarsvakantie
DESCRIPTION:
URL:https://develhoek.nl/evenement/voorjaarsvakantie/
END:VEVENT
BEGIN:VEVENT
DTSTART;VALUE=DATE:20260223
DTEND;VALUE=DATE:20260228
DTSTAMP:20260419T162051
CREATED:20251211T113748Z
LAST-MODIFIED:20251211T113748Z
UID:1280-1771804800-1772236799@develhoek.nl
SUMMARY:Rapportgesprekken
DESCRIPTION:
URL:https://develhoek.nl/evenement/rapportgesprekken/
END:VEVENT
BEGIN:VEVENT
DTSTART;VALUE=DATE:20260224
DTEND;VALUE=DATE:20260225
DTSTAMP:20260419T162051
CREATED:20251211T113655Z
LAST-MODIFIED:20251211T113655Z
UID:1276-1771891200-1771977599@develhoek.nl
SUMMARY:Ouderavond Social Media
DESCRIPTION:Een informatieavond georganiseerd door de Kanjertraining over Social Media voor ouders met een kind(eren) in groep 6\, 7 en 8.
URL:https://develhoek.nl/evenement/ouderavond-social-media/
END:VEVENT
BEGIN:VEVENT
DTSTART;VALUE=DATE:20260227
DTEND;VALUE=DATE:20260228
DTSTAMP:20260419T162051
CREATED:20251211T113714Z
LAST-MODIFIED:20251211T113714Z
UID:1278-1772150400-1772236799@develhoek.nl
SUMMARY:Spelletjesochtend groep 1/2
DESCRIPTION:
URL:https://develhoek.nl/evenement/spelletjesochtend-groep-1-2-2/
END:VEVENT
END:VCALENDAR