BEGIN:VCALENDAR
VERSION:2.0
PRODID:-//Develhoek - ECPv6.15.20//NONSGML v1.0//EN
CALSCALE:GREGORIAN
METHOD:PUBLISH
X-WR-CALNAME:Develhoek
X-ORIGINAL-URL:https://develhoek.nl
X-WR-CALDESC:Evenementen voor Develhoek
REFRESH-INTERVAL;VALUE=DURATION:PT1H
X-Robots-Tag:noindex
X-PUBLISHED-TTL:PT1H
BEGIN:VTIMEZONE
TZID:Europe/Amsterdam
BEGIN:DAYLIGHT
TZOFFSETFROM:+0100
TZOFFSETTO:+0200
TZNAME:CEST
DTSTART:20250330T010000
END:DAYLIGHT
BEGIN:STANDARD
TZOFFSETFROM:+0200
TZOFFSETTO:+0100
TZNAME:CET
DTSTART:20251026T010000
END:STANDARD
BEGIN:DAYLIGHT
TZOFFSETFROM:+0100
TZOFFSETTO:+0200
TZNAME:CEST
DTSTART:20260329T010000
END:DAYLIGHT
BEGIN:STANDARD
TZOFFSETFROM:+0200
TZOFFSETTO:+0100
TZNAME:CET
DTSTART:20261025T010000
END:STANDARD
BEGIN:DAYLIGHT
TZOFFSETFROM:+0100
TZOFFSETTO:+0200
TZNAME:CEST
DTSTART:20270328T010000
END:DAYLIGHT
BEGIN:STANDARD
TZOFFSETFROM:+0200
TZOFFSETTO:+0100
TZNAME:CET
DTSTART:20271031T010000
END:STANDARD
END:VTIMEZONE
BEGIN:VEVENT
DTSTART;VALUE=DATE:20260602
DTEND;VALUE=DATE:20260606
DTSTAMP:20260419T151617
CREATED:20251211T115313Z
LAST-MODIFIED:20251211T115313Z
UID:1326-1780358400-1780703999@develhoek.nl
SUMMARY:Avondvierdaagse
DESCRIPTION:
URL:https://develhoek.nl/evenement/avondvierdaagse/
END:VEVENT
BEGIN:VEVENT
DTSTART;VALUE=DATE:20260610
DTEND;VALUE=DATE:20260611
DTSTAMP:20260419T151617
CREATED:20251211T115440Z
LAST-MODIFIED:20251211T115440Z
UID:1330-1781049600-1781135999@develhoek.nl
SUMMARY:Studiedag
DESCRIPTION:Alle leerlingen zijn vrij.
URL:https://develhoek.nl/evenement/studiedag-4/
END:VEVENT
BEGIN:VEVENT
DTSTART;VALUE=DATE:20260612
DTEND;VALUE=DATE:20260613
DTSTAMP:20260419T151617
CREATED:20251211T115356Z
LAST-MODIFIED:20251211T115356Z
UID:1328-1781222400-1781308799@develhoek.nl
SUMMARY:Sportdag groepen 7
DESCRIPTION:
URL:https://develhoek.nl/evenement/sportdag-groepen-7/
END:VEVENT
BEGIN:VEVENT
DTSTART;VALUE=DATE:20260615
DTEND;VALUE=DATE:20260618
DTSTAMP:20260419T151617
CREATED:20251211T115534Z
LAST-MODIFIED:20251211T115534Z
UID:1332-1781481600-1781740799@develhoek.nl
SUMMARY:Sportdag groepen 5 en 6
DESCRIPTION:De exacte datum en locatie volgt na inschrijving.
URL:https://develhoek.nl/evenement/sportdag-groepen-5-en-6/
END:VEVENT
BEGIN:VEVENT
DTSTART;TZID=Europe/Amsterdam:20260616T190000
DTEND;TZID=Europe/Amsterdam:20260616T203000
DTSTAMP:20260419T151617
CREATED:20251211T115616Z
LAST-MODIFIED:20251211T115616Z
UID:1334-1781636400-1781641800@develhoek.nl
SUMMARY:AR vergadering
DESCRIPTION:
URL:https://develhoek.nl/evenement/ar-vergadering-2/
END:VEVENT
BEGIN:VEVENT
DTSTART;TZID=Europe/Amsterdam:20260622T200000
DTEND;TZID=Europe/Amsterdam:20260622T220000
DTSTAMP:20260419T151617
CREATED:20251211T115647Z
LAST-MODIFIED:20251211T115647Z
UID:1336-1782158400-1782165600@develhoek.nl
SUMMARY:MR vergadering
DESCRIPTION:
URL:https://develhoek.nl/evenement/mr-vergadering-4/
END:VEVENT
BEGIN:VEVENT
DTSTART;TZID=Europe/Amsterdam:20260623T140000
DTEND;TZID=Europe/Amsterdam:20260623T143000
DTSTAMP:20260419T151617
CREATED:20251211T115712Z
LAST-MODIFIED:20251211T115712Z
UID:1338-1782223200-1782225000@develhoek.nl
SUMMARY:Kom in de klas
DESCRIPTION:
URL:https://develhoek.nl/evenement/kom-in-de-klas-2/
END:VEVENT
BEGIN:VEVENT
DTSTART;VALUE=DATE:20260626
DTEND;VALUE=DATE:20260627
DTSTAMP:20260419T151617
CREATED:20251211T115741Z
LAST-MODIFIED:20251211T115741Z
UID:1340-1782432000-1782518399@develhoek.nl
SUMMARY:Spelletjesochtend groep 1/2
DESCRIPTION:
URL:https://develhoek.nl/evenement/spelletjesochtend-groep-1-2-4/
END:VEVENT
BEGIN:VEVENT
DTSTART;VALUE=DATE:20260629
DTEND;VALUE=DATE:20260704
DTSTAMP:20260419T151617
CREATED:20251211T115839Z
LAST-MODIFIED:20251211T115839Z
UID:1344-1782691200-1783123199@develhoek.nl
SUMMARY:Telefonische oudergesprekken
DESCRIPTION:
URL:https://develhoek.nl/evenement/telefonische-oudergesprekken/
END:VEVENT
END:VCALENDAR